Workbook
Name checker: 'Expense Form'!$C$13:$C$32
Name Date_Regex_Checker: 'Expense Form'!#REF!

Sheet Expense Form
D1: #VALUE!
F2: EXPENSE REIMBURSEMENT FORM
B5: Payable to: | H5: Purpose/Event:
B6: Email address: | H6: Date of Event (YYYY-MM-DD):
B8: Please ensure that you only fill in eligible expenses according to TFRI's travel policy. To help identify and remove ineligible expenses, please utilize the calculator provided in the subsequent tab.
I9: Updated Travel Policy with meal rates, kilometric rates, and eligible expenditures can be found under "Policies" here: | J9: TFRI Travel Policy
J11: Finance Use Only | N11: Staff Only
B12: Date (YYYY-MM-DD) | D12: Expense Type | E12: Vendor & Description | F12: Total Claim Amount | G12: GST/HST | H12: Tips Paid | I12: Province of Expense (Leave blank if no tax paid) | J12: Tax Rate | K12: Total GST | L12: GST Rebate | M12: Net Expense | N12: Department
A13: 1 | J13: =_xlfn.IFNA(VLOOKUP(I13, Departments!F2:G14, 2, FALSE), "") | K13: =IFERROR(IF(AND(AND(D13="Uber/Taxi", I13="BC"), OR(G13="", G13=0)), (F13-H13)/1.05*0.05, IF(OR(D13="Mileage",D13= "Transit"), 0, IF(ISNUMBER(MATCH(I13,{"ON","NS","NL","NB, ""PE"})),IF(OR(G13="",G13=0),(F13-H13)/(1+J13)*0.05,G13/13*5),IF(OR(G13="",G13=0),(F13-H13)/(1+J13)*0.05,G13)))), 0) -> 0 | L13: =IF(K13=0,"-", ROUND(K13/2, 2)) -> - | M13: =IFERROR(F13-L13,F13) -> 0
A14: 2 | C14: =OR(AND(LEN(B14)=10, _xlfn.REGEXTEST(B14,"\d{4}-(?:0[1-9]|1[0-2])-(?:0[1-9]|[12]\d|3[01])")), B14="") -> TRUE | J14: =_xlfn.IFNA(VLOOKUP(I14, Departments!F3:G15, 2), "") | K14: =IFERROR(IF(AND(AND(D14="Uber/Taxi", I14="BC"), OR(G14="", G14=0)), (F14-#REF!)/1.05*0.05, IF(OR(D14="Mileage",D14= "Transit"), 0, IF(ISNUMBER(MATCH(I14,{"ON","NS","NL","NB, ""PE"})),IF(OR(G14="",G14=0),(F14-H14)/(1+J14)*0.05,G14/13*5),IF(OR(G14="",G14=0),(F14-H14)/(1+J14)*0.05,G14)))), 0) -> 0 | L14: =IF(K14=0,"-", ROUND(K14/2, 2)) -> - | M14: =IFERROR(F14-L14,F14) -> 0
A15: 3 | C15: =OR(AND(LEN(B15)=10, _xlfn.REGEXTEST(B15,"\d{4}-(?:0[1-9]|1[0-2])-(?:0[1-9]|[12]\d|3[01])")), B15="") -> TRUE | J15: =_xlfn.IFNA(VLOOKUP(I15, Departments!F4:G16, 2), "") | K15: =IFERROR(IF(AND(AND(D15="Uber/Taxi", I15="BC"), OR(G15="", G15=0)), (F15-#REF!)/1.05*0.05, IF(OR(D15="Mileage",D15= "Transit"), 0, IF(ISNUMBER(MATCH(I15,{"ON","NS","NL","NB, ""PE"})),IF(OR(G15="",G15=0),(F15-H15)/(1+J15)*0.05,G15/13*5),IF(OR(G15="",G15=0),(F15-H15)/(1+J15)*0.05,G15)))), 0) -> 0 | L15: =IF(K15=0,"-", ROUND(K15/2, 2)) -> - | M15: =IFERROR(F15-L15,F15) -> 0
A16: 4 | C16: =OR(AND(LEN(B16)=10, _xlfn.REGEXTEST(B16,"\d{4}-(?:0[1-9]|1[0-2])-(?:0[1-9]|[12]\d|3[01])")), B16="") -> TRUE | J16: =_xlfn.IFNA(VLOOKUP(I16, Departments!F5:G17, 2), "") | K16: =IFERROR(IF(AND(AND(D16="Uber/Taxi", I16="BC"), OR(G16="", G16=0)), (F16-#REF!)/1.05*0.05, IF(OR(D16="Mileage",D16= "Transit"), 0, IF(ISNUMBER(MATCH(I16,{"ON","NS","NL","NB, ""PE"})),IF(OR(G16="",G16=0),(F16-H16)/(1+J16)*0.05,G16/13*5),IF(OR(G16="",G16=0),(F16-H16)/(1+J16)*0.05,G16)))), 0) -> 0 | L16: =IF(K16=0,"-", ROUND(K16/2, 2)) -> - | M16: =IFERROR(F16-L16,F16) -> 0
A17: 5 | C17: =OR(AND(LEN(B17)=10, _xlfn.REGEXTEST(B17,"\d{4}-(?:0[1-9]|1[0-2])-(?:0[1-9]|[12]\d|3[01])")), B17="") -> TRUE | J17: =_xlfn.IFNA(VLOOKUP(I17, Departments!F6:G18, 2), "") | K17: =IFERROR(IF(AND(AND(D17="Uber/Taxi", I17="BC"), OR(G17="", G17=0)), (F17-#REF!)/1.05*0.05, IF(OR(D17="Mileage",D17= "Transit"), 0, IF(ISNUMBER(MATCH(I17,{"ON","NS","NL","NB, ""PE"})),IF(OR(G17="",G17=0),(F17-H17)/(1+J17)*0.05,G17/13*5),IF(OR(G17="",G17=0),(F17-H17)/(1+J17)*0.05,G17)))), 0) -> 0 | L17: =IF(K17=0,"-", ROUND(K17/2, 2)) -> - | M17: =IFERROR(F17-L17,F17) -> 0
A18: 6 | C18: =OR(AND(LEN(B18)=10, _xlfn.REGEXTEST(B18,"\d{4}-(?:0[1-9]|1[0-2])-(?:0[1-9]|[12]\d|3[01])")), B18="") -> TRUE | J18: =_xlfn.IFNA(VLOOKUP(I18, Departments!F7:G19, 2), "") | K18: =IFERROR(IF(AND(AND(D18="Uber/Taxi", I18="BC"), OR(G18="", G18=0)), (F18-#REF!)/1.05*0.05, IF(OR(D18="Mileage",D18= "Transit"), 0, IF(ISNUMBER(MATCH(I18,{"ON","NS","NL","NB, ""PE"})),IF(OR(G18="",G18=0),(F18-H18)/(1+J18)*0.05,G18/13*5),IF(OR(G18="",G18=0),(F18-H18)/(1+J18)*0.05,G18)))), 0) -> 0 | L18: =IF(K18=0,"-", ROUND(K18/2, 2)) -> - | M18: =IFERROR(F18-L18,F18) -> 0
A19: 7 | C19: =OR(AND(LEN(B19)=10, _xlfn.REGEXTEST(B19,"\d{4}-(?:0[1-9]|1[0-2])-(?:0[1-9]|[12]\d|3[01])")), B19="") -> TRUE | J19: =_xlfn.IFNA(VLOOKUP(I19, Departments!F8:G20, 2), "") | K19: =IFERROR(IF(AND(AND(D19="Uber/Taxi", I19="BC"), OR(G19="", G19=0)), (F19-#REF!)/1.05*0.05, IF(OR(D19="Mileage",D19= "Transit"), 0, IF(ISNUMBER(MATCH(I19,{"ON","NS","NL","NB, ""PE"})),IF(OR(G19="",G19=0),(F19-H19)/(1+J19)*0.05,G19/13*5),IF(OR(G19="",G19=0),(F19-H19)/(1+J19)*0.05,G19)))), 0) -> 0 | L19: =IF(K19=0,"-", ROUND(K19/2, 2)) -> - | M19: =IFERROR(F19-L19,F19) -> 0
A20: 8 | C20: =OR(AND(LEN(B20)=10, _xlfn.REGEXTEST(B20,"\d{4}-(?:0[1-9]|1[0-2])-(?:0[1-9]|[12]\d|3[01])")), B20="") -> TRUE | J20: =_xlfn.IFNA(VLOOKUP(I20, Departments!F9:G21, 2), "") | K20: =IFERROR(IF(AND(AND(D20="Uber/Taxi", I20="BC"), OR(G20="", G20=0)), (F20-#REF!)/1.05*0.05, IF(OR(D20="Mileage",D20= "Transit"), 0, IF(ISNUMBER(MATCH(I20,{"ON","NS","NL","NB, ""PE"})),IF(OR(G20="",G20=0),(F20-H20)/(1+J20)*0.05,G20/13*5),IF(OR(G20="",G20=0),(F20-H20)/(1+J20)*0.05,G20)))), 0) -> 0 | L20: =IF(K20=0,"-", ROUND(K20/2, 2)) -> - | M20: =IFERROR(F20-L20,F20) -> 0
A21: 9 | C21: =OR(AND(LEN(B21)=10, _xlfn.REGEXTEST(B21,"\d{4}-(?:0[1-9]|1[0-2])-(?:0[1-9]|[12]\d|3[01])")), B21="") -> TRUE | J21: =_xlfn.IFNA(VLOOKUP(I21, Departments!F10:G22, 2), "") | K21: =IFERROR(IF(AND(AND(D21="Uber/Taxi", I21="BC"), OR(G21="", G21=0)), (F21-#REF!)/1.05*0.05, IF(OR(D21="Mileage",D21= "Transit"), 0, IF(ISNUMBER(MATCH(I21,{"ON","NS","NL","NB, ""PE"})),IF(OR(G21="",G21=0),(F21-H21)/(1+J21)*0.05,G21/13*5),IF(OR(G21="",G21=0),(F21-H21)/(1+J21)*0.05,G21)))), 0) -> 0 | L21: =IF(K21=0,"-", ROUND(K21/2, 2)) -> - | M21: =IFERROR(F21-L21,F21) -> 0
A22: 10 | C22: =OR(AND(LEN(B22)=10, _xlfn.REGEXTEST(B22,"\d{4}-(?:0[1-9]|1[0-2])-(?:0[1-9]|[12]\d|3[01])")), B22="") -> TRUE | J22: =_xlfn.IFNA(VLOOKUP(I22, Departments!F11:G23, 2), "") | K22: =IFERROR(IF(AND(AND(D22="Uber/Taxi", I22="BC"), OR(G22="", G22=0)), (F22-#REF!)/1.05*0.05, IF(OR(D22="Mileage",D22= "Transit"), 0, IF(ISNUMBER(MATCH(I22,{"ON","NS","NL","NB, ""PE"})),IF(OR(G22="",G22=0),(F22-H22)/(1+J22)*0.05,G22/13*5),IF(OR(G22="",G22=0),(F22-H22)/(1+J22)*0.05,G22)))), 0) -> 0 | L22: =IF(K22=0,"-", ROUND(K22/2, 2)) -> - | M22: =IFERROR(F22-L22,F22) -> 0
A23: 11 | C23: =OR(AND(LEN(B23)=10, _xlfn.REGEXTEST(B23,"\d{4}-(?:0[1-9]|1[0-2])-(?:0[1-9]|[12]\d|3[01])")), B23="") -> TRUE | J23: =_xlfn.IFNA(VLOOKUP(I23, Departments!F12:G24, 2), "") | K23: =IFERROR(IF(AND(AND(D23="Uber/Taxi", I23="BC"), OR(G23="", G23=0)), (F23-#REF!)/1.05*0.05, IF(OR(D23="Mileage",D23= "Transit"), 0, IF(ISNUMBER(MATCH(I23,{"ON","NS","NL","NB, ""PE"})),IF(OR(G23="",G23=0),(F23-H23)/(1+J23)*0.05,G23/13*5),IF(OR(G23="",G23=0),(F23-H23)/(1+J23)*0.05,G23)))), 0) -> 0 | L23: =IF(K23=0,"-", ROUND(K23/2, 2)) -> - | M23: =IFERROR(F23-L23,F23) -> 0
A24: 12 | C24: =OR(AND(LEN(B24)=10, _xlfn.REGEXTEST(B24,"\d{4}-(?:0[1-9]|1[0-2])-(?:0[1-9]|[12]\d|3[01])")), B24="") -> TRUE | J24: =_xlfn.IFNA(VLOOKUP(I24, Departments!F13:G25, 2), "") | K24: =IFERROR(IF(AND(AND(D24="Uber/Taxi", I24="BC"), OR(G24="", G24=0)), (F24-#REF!)/1.05*0.05, IF(OR(D24="Mileage",D24= "Transit"), 0, IF(ISNUMBER(MATCH(I24,{"ON","NS","NL","NB, ""PE"})),IF(OR(G24="",G24=0),(F24-H24)/(1+J24)*0.05,G24/13*5),IF(OR(G24="",G24=0),(F24-H24)/(1+J24)*0.05,G24)))), 0) -> 0 | L24: =IF(K24=0,"-", ROUND(K24/2, 2)) -> - | M24: =IFERROR(F24-L24,F24) -> 0
A25: 13 | C25: =OR(AND(LEN(B25)=10, _xlfn.REGEXTEST(B25,"\d{4}-(?:0[1-9]|1[0-2])-(?:0[1-9]|[12]\d|3[01])")), B25="") -> TRUE | J25: =_xlfn.IFNA(VLOOKUP(I25, Departments!F14:G28, 2), "") | K25: =IFERROR(IF(AND(AND(D25="Uber/Taxi", I25="BC"), OR(G25="", G25=0)), (F25-#REF!)/1.05*0.05, IF(OR(D25="Mileage",D25= "Transit"), 0, IF(ISNUMBER(MATCH(I25,{"ON","NS","NL","NB, ""PE"})),IF(OR(G25="",G25=0),(F25-H25)/(1+J25)*0.05,G25/13*5),IF(OR(G25="",G25=0),(F25-H25)/(1+J25)*0.05,G25)))), 0) -> 0 | L25: =IF(K25=0,"-", ROUND(K25/2, 2)) -> - | M25: =IFERROR(F25-L25,F25) -> 0
A26: 14 | C26: =OR(AND(LEN(B26)=10, _xlfn.REGEXTEST(B26,"\d{4}-(?:0[1-9]|1[0-2])-(?:0[1-9]|[12]\d|3[01])")), B26="") -> TRUE | J26: =_xlfn.IFNA(VLOOKUP(I26, Departments!F15:G29, 2), "") | K26: =IFERROR(IF(AND(AND(D26="Uber/Taxi", I26="BC"), OR(G26="", G26=0)), (F26-#REF!)/1.05*0.05, IF(OR(D26="Mileage",D26= "Transit"), 0, IF(ISNUMBER(MATCH(I26,{"ON","NS","NL","NB, ""PE"})),IF(OR(G26="",G26=0),(F26-H26)/(1+J26)*0.05,G26/13*5),IF(OR(G26="",G26=0),(F26-H26)/(1+J26)*0.05,G26)))), 0) -> 0 | L26: =IF(K26=0,"-", ROUND(K26/2, 2)) -> - | M26: =IFERROR(F26-L26,F26) -> 0
A27: 15 | C27: =OR(AND(LEN(B27)=10, _xlfn.REGEXTEST(B27,"\d{4}-(?:0[1-9]|1[0-2])-(?:0[1-9]|[12]\d|3[01])")), B27="") -> TRUE | J27: =_xlfn.IFNA(VLOOKUP(I27, Departments!F16:G30, 2), "") | K27: =IFERROR(IF(AND(AND(D27="Uber/Taxi", I27="BC"), OR(G27="", G27=0)), (F27-#REF!)/1.05*0.05, IF(OR(D27="Mileage",D27= "Transit"), 0, IF(ISNUMBER(MATCH(I27,{"ON","NS","NL","NB, ""PE"})),IF(OR(G27="",G27=0),(F27-H27)/(1+J27)*0.05,G27/13*5),IF(OR(G27="",G27=0),(F27-H27)/(1+J27)*0.05,G27)))), 0) -> 0 | L27: =IF(K27=0,"-", ROUND(K27/2, 2)) -> - | M27: =IFERROR(F27-L27,F27) -> 0
A28: 16 | C28: =OR(AND(LEN(B28)=10, _xlfn.REGEXTEST(B28,"\d{4}-(?:0[1-9]|1[0-2])-(?:0[1-9]|[12]\d|3[01])")), B28="") -> TRUE | J28: =_xlfn.IFNA(VLOOKUP(I28, Departments!F17:G31, 2), "") | K28: =IFERROR(IF(AND(AND(D28="Uber/Taxi", I28="BC"), OR(G28="", G28=0)), (F28-#REF!)/1.05*0.05, IF(OR(D28="Mileage",D28= "Transit"), 0, IF(ISNUMBER(MATCH(I28,{"ON","NS","NL","NB, ""PE"})),IF(OR(G28="",G28=0),(F28-H28)/(1+J28)*0.05,G28/13*5),IF(OR(G28="",G28=0),(F28-H28)/(1+J28)*0.05,G28)))), 0) -> 0 | L28: =IF(K28=0,"-", ROUND(K28/2, 2)) -> - | M28: =IFERROR(F28-L28,F28) -> 0
A29: 17 | C29: =OR(AND(LEN(B29)=10, _xlfn.REGEXTEST(B29,"\d{4}-(?:0[1-9]|1[0-2])-(?:0[1-9]|[12]\d|3[01])")), B29="") -> TRUE | J29: =_xlfn.IFNA(VLOOKUP(I29, Departments!F18:G32, 2), "") | K29: =IFERROR(IF(AND(AND(D29="Uber/Taxi", I29="BC"), OR(G29="", G29=0)), (F29-#REF!)/1.05*0.05, IF(OR(D29="Mileage",D29= "Transit"), 0, IF(ISNUMBER(MATCH(I29,{"ON","NS","NL","NB, ""PE"})),IF(OR(G29="",G29=0),(F29-H29)/(1+J29)*0.05,G29/13*5),IF(OR(G29="",G29=0),(F29-H29)/(1+J29)*0.05,G29)))), 0) -> 0 | L29: =IF(K29=0,"-", ROUND(K29/2, 2)) -> - | M29: =IFERROR(F29-L29,F29) -> 0
A30: 18 | C30: =OR(AND(LEN(B30)=10, _xlfn.REGEXTEST(B30,"\d{4}-(?:0[1-9]|1[0-2])-(?:0[1-9]|[12]\d|3[01])")), B30="") -> TRUE | J30: =_xlfn.IFNA(VLOOKUP(I30, Departments!F19:G33, 2), "") | K30: =IFERROR(IF(AND(AND(D30="Uber/Taxi", I30="BC"), OR(G30="", G30=0)), (F30-#REF!)/1.05*0.05, IF(OR(D30="Mileage",D30= "Transit"), 0, IF(ISNUMBER(MATCH(I30,{"ON","NS","NL","NB, ""PE"})),IF(OR(G30="",G30=0),(F30-H30)/(1+J30)*0.05,G30/13*5),IF(OR(G30="",G30=0),(F30-H30)/(1+J30)*0.05,G30)))), 0) -> 0 | L30: =IF(K30=0,"-", ROUND(K30/2, 2)) -> - | M30: =IFERROR(F30-L30,F30) -> 0
A31: 19 | C31: =OR(AND(LEN(B31)=10, _xlfn.REGEXTEST(B31,"\d{4}-(?:0[1-9]|1[0-2])-(?:0[1-9]|[12]\d|3[01])")), B31="") -> TRUE | J31: =_xlfn.IFNA(VLOOKUP(I31, Departments!F20:G34, 2), "") | K31: =IFERROR(IF(AND(AND(D31="Uber/Taxi", I31="BC"), OR(G31="", G31=0)), (F31-#REF!)/1.05*0.05, IF(OR(D31="Mileage",D31= "Transit"), 0, IF(ISNUMBER(MATCH(I31,{"ON","NS","NL","NB, ""PE"})),IF(OR(G31="",G31=0),(F31-H31)/(1+J31)*0.05,G31/13*5),IF(OR(G31="",G31=0),(F31-H31)/(1+J31)*0.05,G31)))), 0) -> 0 | L31: =IF(K31=0,"-", ROUND(K31/2, 2)) -> - | M31: =IFERROR(F31-L31,F31) -> 0
A32: 20 | C32: =OR(AND(LEN(B32)=10, _xlfn.REGEXTEST(B32,"\d{4}-(?:0[1-9]|1[0-2])-(?:0[1-9]|[12]\d|3[01])")), B32="") -> TRUE | J32: =_xlfn.IFNA(VLOOKUP(I32, Departments!F21:G35, 2), "") | K32: =IFERROR(IF(AND(AND(D32="Uber/Taxi", I32="BC"), OR(G32="", G32=0)), (F32-#REF!)/1.05*0.05, IF(OR(D32="Mileage",D32= "Transit"), 0, IF(ISNUMBER(MATCH(I32,{"ON","NS","NL","NB, ""PE"})),IF(OR(G32="",G32=0),(F32-H32)/(1+J32)*0.05,G32/13*5),IF(OR(G32="",G32=0),(F32-H32)/(1+J32)*0.05,G32)))), 0) -> 0 | L32: =IF(K32=0,"-", ROUND(K32/2, 2)) -> - | M32: =IFERROR(F32-L32,F32) -> 0
E33: Total Claim | F33: =SUM(F13:F32) -> 0 | L33: =SUM(L13:L32) -> 0 | M33: =SUM(M13:M32) -> 0
B35: Claimant Banking Info for EFT
B36: Bank Name: | H36: Claimant Signature | M36: Date:
B37: Bank No:
B38: Transit No:
B39: Account No:
B40: (not required if already on file) | H40: Approver Signature | M40: Date:
B41: PLEASE ALSO ATTACH A VOID CHEQUE/DIRECT DEPOSIT FORM TO YOUR SUBMISSION
B43: Submit signed form, all receipts, and void cheque to accounting@tfri.ca

Sheet Departments
A1: Department ID | B1: Description | C1: Department | F1: Province | G1: Tax Rate
A2: 110 | B2: Admin | C2: =+A2&" - "&B2 -> 110 - Admin | F2: AB | G2: 0.05
A3: 120 | B3: IT | C3: =+A3&" - "&B3 -> 120 - IT | F3: NWT | G3: 0.05
A4: 130 | B4: Finance | C4: =+A4&" - "&B4 -> 130 - Finance | F4: NU | G4: 0.05
A5: 140 | B5: Communications | C5: =+A5&" - "&B5 -> 140 - Communications | F5: YT | G5: 0.05
A6: 150 | B6: Human Resources | C6: =+A6&" - "&B6 -> 150 - Human Resources | F6: SK | G6: 0.11
A7: 500 | B7: TFF Research Projects | C7: =+A7&" - "&B7 -> 500 - TFF Research Projects | F7: BC | G7: 0.12
A8: 530 | B8: MOHCCN Phase 2 | C8: =+A8&" - "&B8 -> 530 - MOHCCN Phase 2 | F8: MB | G8: 0.12
A9: 520 | B9: Digital Health and Discovery Platform (DHDP) | C9: =+A9&" - "&B9 -> 520 - Digital Health and Discovery Platform (DHDP) | F9: ON | G9: 0.13
F10: QC | G10: 0.14975
F11: NB | G11: 0.15
A12: Expense Types | F12: NS | G12: 0.15
A13: Parking | F13: NL | G13: 0.15
A14: Mileage | F14: PE | G14: 0.15
A15: Uber/Taxi
A16: Meals
A17: Transit
A18: Airfare
A19: Hotels
A20: Other

Sheet Eligible Expense Calculator
B1: Eligible Expenses Calculator
B3: Eligible expenses (before tax and tips) eg. Food
B4: Ineligible expenses (before tax and tips) eg. Liquor
B5: Tip Total
B6: Tax Total
B7: Liquor Tax (if applicable)
B9: Reduce meal expense line items (liquor)
B10: Category | C10: Base | D10: Rate | E10: SubTotal
B11: Eligible | C11: =+$C$3 -> 0 | D11: 1 | E11: =+C11*D11 -> 0
B12: Ineligible | C12: =+$C$4 -> 0 | D12: 1 | E12: =+C12*D12 -> 0
B13: Eligible Tax | C13: =+$C$3 -> 0 | D13: =IFERROR($C$6/($C$3+$C$4),"-") -> - | E13: =IFERROR(C13*D13,"-") -> -
B14: Ineligible Tax | C14: =+$C$4 -> 0 | D14: =IFERROR(IF($C$7="",$C$6/($C$4+$C$3),$C$7/$C$4+0.05),"-") -> - | E14: =IFERROR(C14*D14,"-") -> -
B15: Tip Eligible | C15: =+$C$3 -> 0 | D15: =IFERROR($C$5/($C$3+$C$4),"-") -> - | E15: =IFERROR(C15*D15,"-") -> -
B16: Tip Ineligible | C16: =+$C$4 -> 0 | D16: =IFERROR($C$5/($C$3+$C$4),"-") -> - | E16: =IFERROR(C16*D16,"-") -> -
B17: Total | E17: =SUM(E11:E16) -> 0
D18: Eligible | E18: =IFERROR(E11+E13+E15,"-") -> -
D19: Ineligible | E19: =IFERROR(E17-E18,"-") -> -
